BEGIN:VCALENDAR
VERSION:2.0
PRODID:-//VTN - ECPv6.15.18//NONSGML v1.0//EN
CALSCALE:GREGORIAN
METHOD:PUBLISH
X-WR-CALNAME:VTN
X-ORIGINAL-URL:https://www.vtntv.com
X-WR-CALDESC:Events for VTN
REFRESH-INTERVAL;VALUE=DURATION:PT1H
X-Robots-Tag:noindex
X-PUBLISHED-TTL:PT1H
BEGIN:VTIMEZONE
TZID:America/Chicago
BEGIN:DAYLIGHT
TZOFFSETFROM:-0600
TZOFFSETTO:-0500
TZNAME:CDT
DTSTART:20250309T080000
END:DAYLIGHT
BEGIN:STANDARD
TZOFFSETFROM:-0500
TZOFFSETTO:-0600
TZNAME:CST
DTSTART:20251102T070000
END:STANDARD
BEGIN:DAYLIGHT
TZOFFSETFROM:-0600
TZOFFSETTO:-0500
TZNAME:CDT
DTSTART:20260308T080000
END:DAYLIGHT
BEGIN:STANDARD
TZOFFSETFROM:-0500
TZOFFSETTO:-0600
TZNAME:CST
DTSTART:20261101T070000
END:STANDARD
BEGIN:DAYLIGHT
TZOFFSETFROM:-0600
TZOFFSETTO:-0500
TZNAME:CDT
DTSTART:20270314T080000
END:DAYLIGHT
BEGIN:STANDARD
TZOFFSETFROM:-0500
TZOFFSETTO:-0600
TZNAME:CST
DTSTART:20271107T070000
END:STANDARD
END:VTIMEZONE
BEGIN:VEVENT
DTSTART;TZID=America/Chicago:20260425T000000
DTEND;TZID=America/Chicago:20260425T003000
DTSTAMP:20260425T055331
CREATED:20260422T140713Z
LAST-MODIFIED:20260422T140713Z
UID:183943-1777075200-1777077000@www.vtntv.com
SUMMARY:Spiritual Authority with Dr. Diana Morgan
DESCRIPTION:Join Dr. Diana Morgan each week as she makes the Word of God plain using her 2 Kingdom Model to impart creative strategies to help you walk by faith and advance the Gospel of Christ.
URL:https://www.vtntv.com/schedule/spiritual-authority-with-dr-diana-morgan-3/
END:VEVENT
BEGIN:VEVENT
DTSTART;TZID=America/Chicago:20260425T003000
DTEND;TZID=America/Chicago:20260425T010000
DTSTAMP:20260425T055331
CREATED:20260422T140713Z
LAST-MODIFIED:20260422T140713Z
UID:183944-1777077000-1777078800@www.vtntv.com
SUMMARY:At the Master's Feet with Pastor Regina Cloman Moore
DESCRIPTION:From Soul Gathering Ministries in Little Rock\, Arkansas\, Pastor Regina Cloman Moore is a mighty Woman of God positioned for the end time harvest.
URL:https://www.vtntv.com/schedule/at-the-masters-feet-with-pastor-regina-cloman-moore-2/
END:VEVENT
BEGIN:VEVENT
DTSTART;TZID=America/Chicago:20260425T010000
DTEND;TZID=America/Chicago:20260425T013000
DTSTAMP:20260425T055331
CREATED:20260422T140713Z
LAST-MODIFIED:20260422T140713Z
UID:183945-1777078800-1777080600@www.vtntv.com
SUMMARY:Marcus Stevenson Jr. Ministries
DESCRIPTION:From Souls Outreach Ministries in Conway\, AR\, join Apostle Marcus Stevenson\, Jr. as he brings a fresh and powerful word that is on time and speaks to your need right now.
URL:https://www.vtntv.com/schedule/marcus-stevenson-jr-ministries-2/
END:VEVENT
BEGIN:VEVENT
DTSTART;TZID=America/Chicago:20260425T013000
DTEND;TZID=America/Chicago:20260425T020000
DTSTAMP:20260425T055331
CREATED:20260422T140714Z
LAST-MODIFIED:20260422T140714Z
UID:183946-1777080600-1777082400@www.vtntv.com
SUMMARY:Believer's Walk of Faith with Bill Winston
DESCRIPTION:Learn how to overcome the obstacles in your life as Bill Winston shows you how to walk by faith in God.
URL:https://www.vtntv.com/schedule/believers-walk-of-faith-with-bill-winston-2/
END:VEVENT
BEGIN:VEVENT
DTSTART;TZID=America/Chicago:20260425T020000
DTEND;TZID=America/Chicago:20260425T023000
DTSTAMP:20260425T055331
CREATED:20260422T140714Z
LAST-MODIFIED:20260422T140714Z
UID:183947-1777082400-1777084200@www.vtntv.com
SUMMARY:The Voice of Deliverance with Leonard Ford
DESCRIPTION:Recorded at crusades and tent revivals across Arkansas\, Brother Leonard Ford brings people together to strengthen and exercise their faith and celebrate each other’s gifts and callings.
URL:https://www.vtntv.com/schedule/the-voice-of-deliverance-with-leonard-ford-2/
END:VEVENT
BEGIN:VEVENT
DTSTART;TZID=America/Chicago:20260425T023000
DTEND;TZID=America/Chicago:20260425T030000
DTSTAMP:20260425T055331
CREATED:20260422T140716Z
LAST-MODIFIED:20260422T140716Z
UID:183948-1777084200-1777086000@www.vtntv.com
SUMMARY:Heart of a Servant
DESCRIPTION:Enjoy the ministry of Apostle Craig and Pastor Sheryl Banks from Canaan Christian Center in Pine Bluff\, Arkansas.
URL:https://www.vtntv.com/schedule/heart-of-a-servant/
END:VEVENT
BEGIN:VEVENT
DTSTART;TZID=America/Chicago:20260425T030000
DTEND;TZID=America/Chicago:20260425T033000
DTSTAMP:20260425T055331
CREATED:20260422T140717Z
LAST-MODIFIED:20260422T140717Z
UID:183949-1777086000-1777087800@www.vtntv.com
SUMMARY:Concepts of Faith with Charles Capps
DESCRIPTION:The Capps family invites you to join them as they share truths that have changed their lives. You\, too\, can learn to put the word of God to work so that it will make a positive effect on the everyday circumstances of your life!
URL:https://www.vtntv.com/schedule/concepts-of-faith-with-charles-capps-3/
END:VEVENT
BEGIN:VEVENT
DTSTART;TZID=America/Chicago:20260425T033000
DTEND;TZID=America/Chicago:20260425T040000
DTSTAMP:20260425T055331
CREATED:20260422T140717Z
LAST-MODIFIED:20260422T140717Z
UID:183950-1777087800-1777089600@www.vtntv.com
SUMMARY:Prophecy Watchers
DESCRIPTION:Gary Stearman and Mondo Gonzales teach on the deeper things of Bible prophecy.
URL:https://www.vtntv.com/schedule/prophecy-watchers-2/
END:VEVENT
BEGIN:VEVENT
DTSTART;TZID=America/Chicago:20260425T040000
DTEND;TZID=America/Chicago:20260425T043000
DTSTAMP:20260425T055331
CREATED:20260422T140718Z
LAST-MODIFIED:20260422T140718Z
UID:183951-1777089600-1777091400@www.vtntv.com
SUMMARY:Christ In Prophecy
DESCRIPTION:Colonel Tim Moore and Nathan Jones bring you this Bible prophecy teaching ministry proclaiming the soon return of Jesus Christ.
URL:https://www.vtntv.com/schedule/christ-in-prophecy/
END:VEVENT
BEGIN:VEVENT
DTSTART;TZID=America/Chicago:20260425T043000
DTEND;TZID=America/Chicago:20260425T060000
DTSTAMP:20260425T055331
CREATED:20260422T140718Z
LAST-MODIFIED:20260422T140718Z
UID:183952-1777091400-1777096800@www.vtntv.com
SUMMARY:VTN Partner Special
DESCRIPTION:Enjoy this special time of ministry with messages exclusively for you – our VTN audience.
URL:https://www.vtntv.com/schedule/vtn-partner-special/
END:VEVENT
BEGIN:VEVENT
DTSTART;TZID=America/Chicago:20260425T060000
DTEND;TZID=America/Chicago:20260425T063000
DTSTAMP:20260425T055331
CREATED:20260422T140918Z
LAST-MODIFIED:20260422T140918Z
UID:183953-1777096800-1777098600@www.vtntv.com
SUMMARY:Cowboy Dan's Frontier
DESCRIPTION:Join Cowboy Dan and his trusty horse Biscuit as they sing\, laugh and learn about  helping farmers and ranchers spread the word about healthy food and livestock.  (E/I) 10 and Under.
URL:https://www.vtntv.com/schedule/cowboy-dans-frontier/
END:VEVENT
BEGIN:VEVENT
DTSTART;TZID=America/Chicago:20260425T063000
DTEND;TZID=America/Chicago:20260425T070000
DTSTAMP:20260425T055331
CREATED:20260422T140919Z
LAST-MODIFIED:20260422T140919Z
UID:183954-1777098600-1777100400@www.vtntv.com
SUMMARY:Awesome Science
DESCRIPTION:Awesome Science explores science from a Biblical worldview. (E/I) Ages 8-12.
URL:https://www.vtntv.com/schedule/awesome-science/
END:VEVENT
BEGIN:VEVENT
DTSTART;TZID=America/Chicago:20260425T070000
DTEND;TZID=America/Chicago:20260425T073000
DTSTAMP:20260425T055331
CREATED:20260422T140919Z
LAST-MODIFIED:20260422T140919Z
UID:183955-1777100400-1777102200@www.vtntv.com
SUMMARY:Turning Point with Dr. David Jeremiah
DESCRIPTION:David Jeremiah is delivering the unchanging word of God to an ever-changing world.
URL:https://www.vtntv.com/schedule/turning-point-with-dr-david-jeremiah-2/
END:VEVENT
BEGIN:VEVENT
DTSTART;TZID=America/Chicago:20260425T073000
DTEND;TZID=America/Chicago:20260425T080000
DTSTAMP:20260425T055331
CREATED:20260422T140920Z
LAST-MODIFIED:20260422T140920Z
UID:183956-1777102200-1777104000@www.vtntv.com
SUMMARY:PowerPoint with Dr. Jack Graham
DESCRIPTION:Pastor Graham addresses relevant\, everyday issues that are prevalent in our culture and that strike a chord with audiences worldwide.
URL:https://www.vtntv.com/schedule/powerpoint-with-dr-jack-graham/
END:VEVENT
BEGIN:VEVENT
DTSTART;TZID=America/Chicago:20260425T080000
DTEND;TZID=America/Chicago:20260425T083000
DTSTAMP:20260425T055331
CREATED:20260422T140920Z
LAST-MODIFIED:20260422T140920Z
UID:183957-1777104000-1777105800@www.vtntv.com
SUMMARY:From His Heart with Pastor Jeff Schreve
DESCRIPTION:Pastor Jeff passionately tells it like it is\, with clear biblical content combined with engaging\, personal stories that are relevant\, compassionate\, and humorous.
URL:https://www.vtntv.com/schedule/from-his-heart-with-pastor-jeff-schreve-2/
END:VEVENT
BEGIN:VEVENT
DTSTART;TZID=America/Chicago:20260425T083000
DTEND;TZID=America/Chicago:20260425T100000
DTSTAMP:20260425T055331
CREATED:20260422T141119Z
LAST-MODIFIED:20260422T141119Z
UID:183958-1777105800-1777111200@www.vtntv.com
SUMMARY:VTN Partner Special
DESCRIPTION:Enjoy this special time of ministry with messages exclusively for you – our VTN audience.
URL:https://www.vtntv.com/schedule/vtn-partner-special-2/
END:VEVENT
BEGIN:VEVENT
DTSTART;TZID=America/Chicago:20260425T100000
DTEND;TZID=America/Chicago:20260425T103000
DTSTAMP:20260425T055331
CREATED:20260422T141119Z
LAST-MODIFIED:20260422T141119Z
UID:183959-1777111200-1777113000@www.vtntv.com
SUMMARY:The Love of God with Dr. Randy Brodhagen
DESCRIPTION:Dr. Randy Brodhagen shows\, in context\, from the Christian perspective\, what Jesus\, God the Father\, and the Holy Spirit are showing about their character and relationship with mankind.
URL:https://www.vtntv.com/schedule/the-love-of-god-with-dr-randy-brodhagen/
END:VEVENT
BEGIN:VEVENT
DTSTART;TZID=America/Chicago:20260425T103000
DTEND;TZID=America/Chicago:20260425T110000
DTSTAMP:20260425T055331
CREATED:20260422T141120Z
LAST-MODIFIED:20260422T141120Z
UID:183960-1777113000-1777114800@www.vtntv.com
SUMMARY:Concepts of Faith with Charles Capps
DESCRIPTION:The Capps family invites you to join them as they share truths that have changed their lives. You\, too\, can learn to put the word of God to work so that it will make a positive effect on the everyday circumstances of your life!
URL:https://www.vtntv.com/schedule/concepts-of-faith-with-charles-capps-4/
END:VEVENT
BEGIN:VEVENT
DTSTART;TZID=America/Chicago:20260425T110000
DTEND;TZID=America/Chicago:20260425T113000
DTSTAMP:20260425T055331
CREATED:20260422T141120Z
LAST-MODIFIED:20260422T141120Z
UID:183961-1777114800-1777116600@www.vtntv.com
SUMMARY:Sekulow
DESCRIPTION:Jay Sekulow focuses on current issues such as national security\, freedom of speech and protecting America’s families.
URL:https://www.vtntv.com/schedule/sekulow/
END:VEVENT
BEGIN:VEVENT
DTSTART;TZID=America/Chicago:20260425T113000
DTEND;TZID=America/Chicago:20260425T120000
DTSTAMP:20260425T055331
CREATED:20260422T141120Z
LAST-MODIFIED:20260422T141120Z
UID:183962-1777116600-1777118400@www.vtntv.com
SUMMARY:Christian World News
DESCRIPTION:A weekly news program devoted to the work of the Holy Spirit around the globe.
URL:https://www.vtntv.com/schedule/christian-world-news/
END:VEVENT
BEGIN:VEVENT
DTSTART;TZID=America/Chicago:20260425T120000
DTEND;TZID=America/Chicago:20260425T140000
DTSTAMP:20260425T055331
CREATED:20260422T141320Z
LAST-MODIFIED:20260422T141320Z
UID:183963-1777118400-1777125600@www.vtntv.com
SUMMARY:VTN Partner Special
DESCRIPTION:Enjoy this special time of ministry with messages exclusively for you – our VTN audience.
URL:https://www.vtntv.com/schedule/vtn-partner-special-3/
END:VEVENT
BEGIN:VEVENT
DTSTART;TZID=America/Chicago:20260425T140000
DTEND;TZID=America/Chicago:20260425T143000
DTSTAMP:20260425T055331
CREATED:20260422T141320Z
LAST-MODIFIED:20260422T141320Z
UID:183964-1777125600-1777127400@www.vtntv.com
SUMMARY:The Bearded Bible Brothers
DESCRIPTION:Joshua and Caleb Colson\, Jewish Believers in Messiah Yeshua\, travel around the world teaching Biblical truth with an emphasis on Israel\, prophecy\, and the Jewish roots of Christianity.
URL:https://www.vtntv.com/schedule/the-bearded-bible-brothers/
END:VEVENT
BEGIN:VEVENT
DTSTART;TZID=America/Chicago:20260425T143000
DTEND;TZID=America/Chicago:20260425T150000
DTSTAMP:20260425T055331
CREATED:20260422T141321Z
LAST-MODIFIED:20260422T141321Z
UID:183965-1777127400-1777129200@www.vtntv.com
SUMMARY:Prophecy In The Spotlight with Dr. Dan Goodwin
DESCRIPTION:Join Evangelist Dan Goodwin as he teaches prophecy.
URL:https://www.vtntv.com/schedule/prophecy-in-the-spotlight-with-dr-dan-goodwin-2/
END:VEVENT
BEGIN:VEVENT
DTSTART;TZID=America/Chicago:20260425T150000
DTEND;TZID=America/Chicago:20260425T153000
DTSTAMP:20260425T055331
CREATED:20260422T141321Z
LAST-MODIFIED:20260422T141321Z
UID:183966-1777129200-1777131000@www.vtntv.com
SUMMARY:Christ In Prophecy
DESCRIPTION:Colonel Tim Moore and Nathan Jones bring you this Bible prophecy teaching ministry proclaiming the soon return of Jesus Christ.
URL:https://www.vtntv.com/schedule/christ-in-prophecy-2/
END:VEVENT
BEGIN:VEVENT
DTSTART;TZID=America/Chicago:20260425T153000
DTEND;TZID=America/Chicago:20260425T160000
DTSTAMP:20260425T055331
CREATED:20260422T141321Z
LAST-MODIFIED:20260422T141321Z
UID:183967-1777131000-1777132800@www.vtntv.com
SUMMARY:SkyWatchTV
DESCRIPTION:Join Joe Horn and his world-famous SkyWatch team as they investigate prophecy\, discovery\, and the supernatural.
URL:https://www.vtntv.com/schedule/skywatchtv/
END:VEVENT
BEGIN:VEVENT
DTSTART;TZID=America/Chicago:20260425T160000
DTEND;TZID=America/Chicago:20260425T163000
DTSTAMP:20260425T055331
CREATED:20260422T141521Z
LAST-MODIFIED:20260422T141521Z
UID:183968-1777132800-1777134600@www.vtntv.com
SUMMARY:Prophecy Watchers
DESCRIPTION:Gary Stearman and Mondo Gonzales teach on the deeper things of Bible prophecy.
URL:https://www.vtntv.com/schedule/prophecy-watchers-3/
END:VEVENT
BEGIN:VEVENT
DTSTART;TZID=America/Chicago:20260425T163000
DTEND;TZID=America/Chicago:20260425T180000
DTSTAMP:20260425T055331
CREATED:20260422T141521Z
LAST-MODIFIED:20260422T141521Z
UID:183969-1777134600-1777140000@www.vtntv.com
SUMMARY:VTN Partner Special
DESCRIPTION:Enjoy this special time of ministry with messages exclusively for you – our VTN audience.
URL:https://www.vtntv.com/schedule/vtn-partner-special-4/
END:VEVENT
BEGIN:VEVENT
DTSTART;TZID=America/Chicago:20260425T180000
DTEND;TZID=America/Chicago:20260425T183000
DTSTAMP:20260425T055331
CREATED:20260422T141522Z
LAST-MODIFIED:20260422T141522Z
UID:183970-1777140000-1777141800@www.vtntv.com
SUMMARY:Prophetic Connection with Dr. John Tweedie
DESCRIPTION:Dr. John Tweedie teaches on the prophetic signs that Jesus of Nazareth said would point to the nearness of His Second Coming to earth.
URL:https://www.vtntv.com/schedule/prophetic-connection-with-dr-john-tweedie/
END:VEVENT
BEGIN:VEVENT
DTSTART;TZID=America/Chicago:20260425T183000
DTEND;TZID=America/Chicago:20260425T190000
DTSTAMP:20260425T055331
CREATED:20260422T141522Z
LAST-MODIFIED:20260422T141522Z
UID:183971-1777141800-1777143600@www.vtntv.com
SUMMARY:Truths That Transform
DESCRIPTION:Hosted by Dr. Robert J. Pacienza\, the program examines key cultural issues from a biblical perspective using compelling feature segments addressing current controversies and insightful sermon excerpts from the late Dr. D. James Kennedy and Dr. Pacienza.
URL:https://www.vtntv.com/schedule/truths-that-transform-2/
END:VEVENT
BEGIN:VEVENT
DTSTART;TZID=America/Chicago:20260425T190000
DTEND;TZID=America/Chicago:20260425T200000
DTSTAMP:20260425T055331
CREATED:20260422T141523Z
LAST-MODIFIED:20260422T141523Z
UID:183972-1777143600-1777147200@www.vtntv.com
SUMMARY:Gaither Homecoming Hour
DESCRIPTION:Enjoy all of your Southern Gospel favorites with Bill and Gloria Gaither and their homecoming friends.
URL:https://www.vtntv.com/schedule/gaither-homecoming-hour/
END:VEVENT
END:VCALENDAR